BEGIN:VCALENDAR
VERSION:2.0
PRODID:-//Plone.org//NONSGML plone.app.event//EN
X-WR-TIMEZONE:US/Eastern
BEGIN:VEVENT
SUMMARY:NBTL Board of Trustees Meeting
DTSTART;TZID=US/Eastern:20161210T130000
DTEND;TZID=US/Eastern:20161210T140000
DTSTAMP:20260420T224055Z
UID:539692bfac0a429ba3fe5dd769be25f1@saas_stack_varnish:6080
ATTENDEE;CN=Public;ROLE=REQ-PARTICIPANT:Public
CONTACT:Jan Gottschalk\, 810-688-2282\, northbranchlibrary@northbranchlibr
 ary.net
CREATED:20161116T193126Z
DESCRIPTION:The NBTL Board of Trustees will meet to discuss issues of the 
 library.  The public is welcome and encouraged to attend.
LAST-MODIFIED:20161116T193130Z
LOCATION:NBTL Meeting Room
URL:https://northbranch.ploud.net/news-events/lib-cal/nbtl-board-of-truste
 es-meeting-5
END:VEVENT
BEGIN:VTIMEZONE
TZID:US/Eastern
X-LIC-LOCATION:US/Eastern
BEGIN:STANDARD
DTSTART:20161106T010000
TZNAME:EST
TZOFFSETFROM:-0400
TZOFFSETTO:-0500
END:STANDARD
END:VTIMEZONE
END:VCALENDAR
