BEGIN:VCALENDAR
VERSION:2.0
PRODID:-//Plone.org//NONSGML plone.app.event//EN
X-WR-TIMEZONE:US/Eastern
BEGIN:VEVENT
SUMMARY:NBTL Board of Trustees Meeting
DTSTART;TZID=US/Eastern:20220208T160000
DTEND;TZID=US/Eastern:20220208T170000
DTSTAMP:20260420T042053Z
UID:6355e21069cb4029916e8c65fd62dc3b@saas_stack_varnish:6080
CONTACT:Kelli Lovasz\, 810-688-2282\, northbranchlibary@northbranchlibrary
 .net
CREATED:20220114T182430Z
DESCRIPTION:Monthly meeting of the NBTL Board of Trustees.  This meeting i
 s open to the public.
LAST-MODIFIED:20220114T182435Z
LOCATION:NBTL Meeting Room
URL:https://northbranch.ploud.net/news-events/lib-cal/nbtl-board-of-truste
 es-meeting-7/2022-02-08
END:VEVENT
BEGIN:VTIMEZONE
TZID:US/Eastern
X-LIC-LOCATION:US/Eastern
BEGIN:STANDARD
DTSTART:20211107T010000
TZNAME:EST
TZOFFSETFROM:-0400
TZOFFSETTO:-0500
END:STANDARD
END:VTIMEZONE
END:VCALENDAR
