BEGIN:VCALENDAR
VERSION:2.0
PRODID:-//Plone.org//NONSGML plone.app.event//EN
X-WR-TIMEZONE:US/Eastern
BEGIN:VEVENT
SUMMARY:NBTL Board of Trustees Meeting
DTSTART;TZID=US/Eastern:20240220T160000
DTEND;TZID=US/Eastern:20240220T170000
DTSTAMP:20260419T221036Z
UID:c7ca5a8cd3444cbf815a5db705436b14@saas_stack_varnish:6080
CREATED:20240119T193233Z
LAST-MODIFIED:20240119T193239Z
URL:https://northbranch.ploud.net/news-events/lib-cal/nbtl-board-of-truste
 es-meeting-8
END:VEVENT
BEGIN:VTIMEZONE
TZID:US/Eastern
X-LIC-LOCATION:US/Eastern
BEGIN:STANDARD
DTSTART:20231105T010000
TZNAME:EST
TZOFFSETFROM:-0400
TZOFFSETTO:-0500
END:STANDARD
END:VTIMEZONE
END:VCALENDAR
