BEGIN:VCALENDAR
VERSION:2.0
PRODID:-//Plone.org//NONSGML plone.app.event//EN
X-WR-TIMEZONE:US/Eastern
BEGIN:VEVENT
SUMMARY:NBTL Board of Trustees - Cancelled
DTSTART;TZID=US/Eastern:20160209T160000
DTEND;TZID=US/Eastern:20160209T170000
DTSTAMP:20260420T191907Z
UID:e7e5384296254724ba568b36d2b5367a@saas_stack_varnish:6080
CONTACT:Jan Gottschalk\, 810-688-2282\, northbranchlibrary@northbranchlibr
 ary.net
CREATED:20160113T201423Z
DESCRIPTION:CANCELLED DUE TO WEATHER CONDITIONS.  RESCHEDULED FOR 2/15/16.
   A meeting of the library's Board of Trustees.  Public is welcome and enc
 ouraged to attend
LAST-MODIFIED:20160209T174504Z
LOCATION:NBTL Meeting Room
URL:https://northbranch.ploud.net/news-events/lib-cal/nbtl-board-of-truste
 es
END:VEVENT
BEGIN:VTIMEZONE
TZID:US/Eastern
X-LIC-LOCATION:US/Eastern
BEGIN:STANDARD
DTSTART:20151101T010000
TZNAME:EST
TZOFFSETFROM:-0400
TZOFFSETTO:-0500
END:STANDARD
END:VTIMEZONE
END:VCALENDAR
