BEGIN:VCALENDAR
VERSION:2.0
PRODID:-//Plone.org//NONSGML plone.app.event//EN
X-WR-TIMEZONE:US/Eastern
BEGIN:VEVENT
SUMMARY:NO SCHOOL BOREDOM BUSTER - COOKIE POPS
DTSTART;TZID=US/Eastern:20160212T103000
DTEND;TZID=US/Eastern:20160212T160000
DTSTAMP:20260420T194811Z
UID:6878d06e19de4dd68ffb66ad910cbc80@saas_stack_varnish:6080
ATTENDEE;CN=children;ROLE=REQ-PARTICIPANT:children
CONTACT:Kelli Lovasz\, 8106882282\, northbranchlibrary@northbranchlibrary
CREATED:20160208T184411Z
DESCRIPTION:There is no school for the kiddos in NB\, so stop in to the li
 brary for a Make & Take craft of Cookie Pops and a decorative holder.  Com
 e anytime between 10:30am - 4:00pm
LAST-MODIFIED:20160208T184416Z
LOCATION:NBTL
URL:https://northbranch.ploud.net/news-events/lib-cal/no-school-boredom-bu
 ster-cookie-pops
END:VEVENT
BEGIN:VTIMEZONE
TZID:US/Eastern
X-LIC-LOCATION:US/Eastern
BEGIN:STANDARD
DTSTART:20151101T010000
TZNAME:EST
TZOFFSETFROM:-0400
TZOFFSETTO:-0500
END:STANDARD
END:VTIMEZONE
END:VCALENDAR
