BEGIN:VCALENDAR
VERSION:2.0
PRODID:-//Plone.org//NONSGML plone.app.event//EN
X-WR-TIMEZONE:US/Eastern
BEGIN:VEVENT
SUMMARY:No School Boredom Buster - Movie Day
DTSTART;TZID=US/Eastern:20171110T103000
DTEND;TZID=US/Eastern:20171110T123000
DTSTAMP:20260420T191401Z
UID:a70142d193cb4c898ab8d8e146945cc5@saas_stack_varnish:6080
ATTENDEE;CN="Movie will be G or PG and appropriate for general audiences."
 ;ROLE=REQ-PARTICIPANT:Movie will be G or PG and appropriate for general au
 diences.
CONTACT:Kelli Lovasz\, 810-688-2282\, northbranchlibrary@northbranchlibrar
 y.net
CREATED:20170928T191243Z
DESCRIPTION:North Branch Area Schools does not have school on this day.   
 Enjoy your day off by watching a movie at the library.  Bring your favorit
 e blanket or pillow for a seat.  Call the library for details.
LAST-MODIFIED:20170928T191252Z
LOCATION:NBTL Meeting Room
URL:https://northbranch.ploud.net/news-events/lib-cal/no-school-boredom-bu
 ster-movie-day
END:VEVENT
BEGIN:VTIMEZONE
TZID:US/Eastern
X-LIC-LOCATION:US/Eastern
BEGIN:STANDARD
DTSTART:20171105T010000
TZNAME:EST
TZOFFSETFROM:-0400
TZOFFSETTO:-0500
END:STANDARD
END:VTIMEZONE
END:VCALENDAR
