BEGIN:VCALENDAR
VERSION:2.0
PRODID:-//Plone.org//NONSGML plone.app.event//EN
X-WR-TIMEZONE:US/Eastern
BEGIN:VEVENT
SUMMARY:No School Boredom Buster
DTSTART;TZID=US/Eastern:20171020T110000
DTEND;TZID=US/Eastern:20171020T140000
DTSTAMP:20260421T002729Z
UID:518e69e4e0e44f19aee1a5f37b89c612@saas_stack_varnish:6080
ATTENDEE;CN="These crafts are appropriate for elementary age.";ROLE=REQ-PA
 RTICIPANT:These crafts are appropriate for elementary age.
CONTACT:Kelli Lovasz\, 810-688-2282\, northbranchlibrary@northbranchlibrar
 y.net
CREATED:20170928T154712Z
DESCRIPTION:North Branch Area Schools have the day off.  Enjoy a craft at 
 the library.  We will have craft stations set up for you to drop in and do
 .
LAST-MODIFIED:20170928T154721Z
LOCATION:NBTL
URL:https://northbranch.ploud.net/news-events/lib-cal/no-school-boredom-bu
 ster
END:VEVENT
BEGIN:VTIMEZONE
TZID:US/Eastern
X-LIC-LOCATION:US/Eastern
BEGIN:DAYLIGHT
DTSTART:20170312T030000
TZNAME:EDT
TZOFFSETFROM:-0500
TZOFFSETTO:-0400
END:DAYLIGHT
END:VTIMEZONE
END:VCALENDAR
