BEGIN:VCALENDAR
VERSION:2.0
PRODID:-//Plone.org//NONSGML plone.app.event//EN
X-WR-TIMEZONE:US/Eastern
BEGIN:VEVENT
SUMMARY:Noon Year's Eve Kid's Party!
DTSTART;TZID=US/Eastern:20241228T110000
DTEND;TZID=US/Eastern:20241228T130000
DTSTAMP:20260419T202237Z
UID:6451e93de18c4b97b63cef47f24456ee@saas_stack_varnish:6080
ATTENDEE;CN="This is a kid friendly event";ROLE=REQ-PARTICIPANT:This is a 
 kid friendly event
CONTACT:810-688-2282\, northbranchlibrary@northbranchlibrary.net
CREATED:20241219T192508Z
DESCRIPTION:We invite you to join Ennis Center for Children's Regional Res
 ource team at the North Branch Library to talk about foster care and how y
 ou can help kids in foster care in 2025.\n\nThis is a kid friendly event c
 elebrating the New Year early!
LAST-MODIFIED:20241219T192515Z
LOCATION:North Branch Township Library
URL:https://northbranch.ploud.net/news-events/lib-cal/noon-years-eve-kids-
 party
END:VEVENT
BEGIN:VTIMEZONE
TZID:US/Eastern
X-LIC-LOCATION:US/Eastern
BEGIN:STANDARD
DTSTART:20241103T010000
TZNAME:EST
TZOFFSETFROM:-0400
TZOFFSETTO:-0500
END:STANDARD
END:VTIMEZONE
END:VCALENDAR
