BEGIN:VCALENDAR
VERSION:2.0
PRODID:-//Plone.org//NONSGML plone.app.event//EN
X-WR-TIMEZONE:US/Eastern
BEGIN:VEVENT
SUMMARY:NORTH BRANCH BEAD GUILD
DTSTART;TZID=US/Eastern:20120315T180000
DTEND;TZID=US/Eastern:20120315T193000
DTSTAMP:20260420T031021Z
UID:bc180767d04b2a41f921e2c3faf39326@saas_stack_varnish:6080
CREATED:20120227T195217Z
LAST-MODIFIED:20120227T195232Z
LOCATION:NBTL MEETING ROOM
URL:https://northbranch.ploud.net/news-events/lib-cal/north-branch-bead-gu
 ild-3.ics
END:VEVENT
BEGIN:VTIMEZONE
TZID:US/Eastern
X-LIC-LOCATION:US/Eastern
BEGIN:DAYLIGHT
DTSTART:20120311T030000
TZNAME:EDT
TZOFFSETFROM:-0500
TZOFFSETTO:-0400
END:DAYLIGHT
END:VTIMEZONE
END:VCALENDAR
