BEGIN:VCALENDAR
VERSION:2.0
PRODID:-//Plone.org//NONSGML plone.app.event//EN
X-WR-TIMEZONE:US/Eastern
BEGIN:VEVENT
SUMMARY:North Branch Garden Club
DTSTART;TZID=US/Eastern:20120312T100000
DTEND;TZID=US/Eastern:20120312T110000
DTSTAMP:20260420T031144Z
UID:fb6e1f8230d3eada01a1cbab0beb2af4@saas_stack_varnish:6080
CONTACT:Denise Edwards\, 810-688-2282\, northbranchlibrary@northbranchlibr
 ary.net
CREATED:20120227T195735Z
LAST-MODIFIED:20120227T195934Z
LOCATION:NBTL MEETING ROOM
URL:https://northbranch.ploud.net/news-events/lib-cal/north-branch-garden-
 club-1.ics
END:VEVENT
BEGIN:VTIMEZONE
TZID:US/Eastern
X-LIC-LOCATION:US/Eastern
BEGIN:DAYLIGHT
DTSTART:20120311T030000
TZNAME:EDT
TZOFFSETFROM:-0500
TZOFFSETTO:-0400
END:DAYLIGHT
END:VTIMEZONE
END:VCALENDAR
