BEGIN:VCALENDAR
VERSION:2.0
PRODID:-//Plone.org//NONSGML plone.app.event//EN
X-WR-TIMEZONE:US/Eastern
BEGIN:VEVENT
SUMMARY:North Branch Library Book Club Meeting
DTSTART;TZID=US/Eastern:20260205T173000
DTEND;TZID=US/Eastern:20260205T190000
DTSTAMP:20260419T165500Z
UID:a80e62f63cc74fbaa8b5694c8c9a6364@saas_stack_varnish:6080
ATTENDEE;CN="Everyone welcome to attend.";ROLE=REQ-PARTICIPANT:Everyone we
 lcome to attend.
CONTACT:810-688-2282\, northbranchlibrary@northbranchlibrary.net
CREATED:20260115T174146Z
DESCRIPTION:Join us for the next meeting of the North Branch Library Book 
 Club! Our next group read is East of Eden by John Steinbeck. This is a low
  pressure club so even if you don't finish the book feel free to join us f
 or a chat!
LAST-MODIFIED:20260115T174156Z
LOCATION:North Branch Township Library
URL:https://northbranch.ploud.net/news-events/lib-cal/north-branch-library
 -book-club-meeting-1
END:VEVENT
BEGIN:VTIMEZONE
TZID:US/Eastern
X-LIC-LOCATION:US/Eastern
BEGIN:STANDARD
DTSTART:20251102T010000
TZNAME:EST
TZOFFSETFROM:-0400
TZOFFSETTO:-0500
END:STANDARD
END:VTIMEZONE
END:VCALENDAR
