BEGIN:VCALENDAR
VERSION:2.0
PRODID:-//Plone.org//NONSGML plone.app.event//EN
X-WR-TIMEZONE:US/Eastern
BEGIN:VEVENT
SUMMARY:North Branch Library Book Club Meeting
DTSTART;TZID=US/Eastern:20260305T173000
DTEND;TZID=US/Eastern:20260305T190000
DTSTAMP:20260419T165502Z
UID:6ff1576226e74338a4dfb78548790dbd@saas_stack_varnish:6080
ATTENDEE;CN="Anyone is welcome!";ROLE=REQ-PARTICIPANT:Anyone is welcome!
CONTACT:810-688-2282\, northbranchlibrary@northbranchlibrary.net
CREATED:20260210T165510Z
DESCRIPTION:Join us for the next meeting of the North Branch Book Club! Ou
 r next book is My Friends by Fredrik Backman. This is a low pressure club 
 so even if you don't finish the book we'd love to see you there!
LAST-MODIFIED:20260210T165540Z
LOCATION:North Branch Township Library
URL:https://northbranch.ploud.net/news-events/lib-cal/north-branch-library
 -book-club-meeting-2
END:VEVENT
BEGIN:VTIMEZONE
TZID:US/Eastern
X-LIC-LOCATION:US/Eastern
BEGIN:STANDARD
DTSTART:20251102T010000
TZNAME:EST
TZOFFSETFROM:-0400
TZOFFSETTO:-0500
END:STANDARD
END:VTIMEZONE
END:VCALENDAR
