BEGIN:VCALENDAR
VERSION:2.0
PRODID:-//Plone.org//NONSGML plone.app.event//EN
X-WR-TIMEZONE:US/Eastern
BEGIN:VEVENT
SUMMARY:North Branch Library Book Club Meeting
DTSTART;TZID=US/Eastern:20251023T173000
DTEND;TZID=US/Eastern:20251023T190000
DTSTAMP:20260419T184515Z
UID:f18599cc17b346d2913c7792b098b23b@saas_stack_varnish:6080
CONTACT:810-688-2282\, northbranchlibrary@northbranchlibrary.net
CREATED:20251002T185302Z
DESCRIPTION:Join us for our first book club meeting! We'll be talking abou
 t our current reads and discussing plans for our first group book
LAST-MODIFIED:20251002T185310Z
LOCATION:North Branch Township Library
URL:https://northbranch.ploud.net/news-events/lib-cal/north-branch-library
 -book-club-meeting
END:VEVENT
BEGIN:VTIMEZONE
TZID:US/Eastern
X-LIC-LOCATION:US/Eastern
BEGIN:DAYLIGHT
DTSTART:20250309T030000
TZNAME:EDT
TZOFFSETFROM:-0500
TZOFFSETTO:-0400
END:DAYLIGHT
END:VTIMEZONE
END:VCALENDAR
