BEGIN:VCALENDAR
VERSION:2.0
PRODID:-//Plone.org//NONSGML plone.app.event//EN
X-WR-TIMEZONE:US/Eastern
BEGIN:VEVENT
SUMMARY:North Branch Township Library Board of Trustees Meeting
DTSTART;TZID=US/Eastern:20170613T170000
DTEND;TZID=US/Eastern:20170613T180000
DTSTAMP:20260420T210254Z
UID:12a8b423e7c743c8bb5ff997aec59d5f@saas_stack_varnish:6080
CONTACT:Jan Gottschalk\, 810-688-2282\, northbranchlibrary@northbranchlibr
 ary.net
CREATED:20170515T185544Z
DESCRIPTION:Meeting of the NBTL Board of Trustees.  Public is welcome and 
 encouraged to attend.
LAST-MODIFIED:20170515T185549Z
LOCATION:NBTL Meeting Room
URL:https://northbranch.ploud.net/news-events/lib-cal/north-branch-townshi
 p-library-board-of-trustees-meeting-1
END:VEVENT
BEGIN:VTIMEZONE
TZID:US/Eastern
X-LIC-LOCATION:US/Eastern
BEGIN:DAYLIGHT
DTSTART:20170312T030000
TZNAME:EDT
TZOFFSETFROM:-0500
TZOFFSETTO:-0400
END:DAYLIGHT
END:VTIMEZONE
END:VCALENDAR
