BEGIN:VCALENDAR
VERSION:2.0
PRODID:-//Plone.org//NONSGML plone.app.event//EN
X-WR-TIMEZONE:US/Eastern
BEGIN:VEVENT
SUMMARY:North Branch Township Library Board of Trustees Meeting
DTSTART;TZID=US/Eastern:20170117T160000
DTEND;TZID=US/Eastern:20170117T170000
DTSTAMP:20260422T121109Z
UID:da74a51d4ad54cda835f76d30bbc5105@saas_stack_varnish:6080
ATTENDEE;CN="Public is welcome";ROLE=REQ-PARTICIPANT:Public is welcome
CONTACT:Kelli Lovasz\, 810-688-2282\, northbranchlibrary@northbranchlibrar
 y.net
CREATED:20170110T193050Z
DESCRIPTION:A meeting of the NBTL Board of Trustees.  The public is welcom
 e and encouraged to attend.
LAST-MODIFIED:20170110T193057Z
LOCATION:NBTL Meeting Room
URL:https://northbranch.ploud.net/news-events/lib-cal/north-branch-townshi
 p-library-board-of-trustees-meeting
END:VEVENT
BEGIN:VTIMEZONE
TZID:US/Eastern
X-LIC-LOCATION:US/Eastern
BEGIN:STANDARD
DTSTART:20161106T010000
TZNAME:EST
TZOFFSETFROM:-0400
TZOFFSETTO:-0500
END:STANDARD
END:VTIMEZONE
END:VCALENDAR
