BEGIN:VCALENDAR
VERSION:2.0
PRODID:-//Plone.org//NONSGML plone.app.event//EN
X-WR-TIMEZONE:US/Eastern
BEGIN:VEVENT
SUMMARY:NORTH BRANCH TOWNSHIP LIBRARY CLOSED
DTSTART;TZID=US/Eastern:20250704T100000
DTEND;TZID=US/Eastern:20250705T140000
DTSTAMP:20260419T184213Z
UID:08c9269d03064b18b0dc20e21acadc46@saas_stack_varnish:6080
CONTACT:810-688-2282\, northbranchlibrary@northbranchlibrary.net
CREATED:20250701T205109Z
DESCRIPTION:CLOSED FOR THE HOLIDAYS- HAVE A HAPPY INDEPENDENCE DAY!
LAST-MODIFIED:20250701T205124Z
LOCATION:North Branch Township Library
URL:https://northbranch.ploud.net/news-events/lib-cal/north-branch-townshi
 p-library-closed
END:VEVENT
BEGIN:VTIMEZONE
TZID:US/Eastern
X-LIC-LOCATION:US/Eastern
BEGIN:DAYLIGHT
DTSTART:20250309T030000
TZNAME:EDT
TZOFFSETFROM:-0500
TZOFFSETTO:-0400
END:DAYLIGHT
END:VTIMEZONE
END:VCALENDAR
