BEGIN:VCALENDAR
VERSION:2.0
PRODID:-//Plone.org//NONSGML plone.app.event//EN
X-WR-TIMEZONE:US/Eastern
BEGIN:VEVENT
SUMMARY:North Pole Craft
DTSTART;TZID=US/Eastern:20161129T170000
DTEND;TZID=US/Eastern:20161129T180000
DTSTAMP:20260420T220915Z
UID:a08c70d3461b4492b5e7e399ebac0f77@saas_stack_varnish:6080
CONTACT:Christi Mortell\, 810-688-2282\, northbranchlibrary@northbranchlib
 rary.net
CREATED:20161116T192403Z
DESCRIPTION:Make a Sign for the North Pole in this fun Christmas Craft.  S
 paces are limited so please call the library 810-688-2282 to register
LAST-MODIFIED:20161116T192409Z
LOCATION:NBTL Meeting Room
URL:https://northbranch.ploud.net/news-events/lib-cal/north-pole-craft
END:VEVENT
BEGIN:VTIMEZONE
TZID:US/Eastern
X-LIC-LOCATION:US/Eastern
BEGIN:STANDARD
DTSTART:20161106T010000
TZNAME:EST
TZOFFSETFROM:-0400
TZOFFSETTO:-0500
END:STANDARD
END:VTIMEZONE
END:VCALENDAR
