BEGIN:VCALENDAR
VERSION:2.0
PRODID:-//Plone.org//NONSGML plone.app.event//EN
X-WR-TIMEZONE:US/Eastern
BEGIN:VEVENT
SUMMARY:Paint Party
DTSTART;TZID=US/Eastern:20251004T103000
DTEND;TZID=US/Eastern:20251004T113000
DTSTAMP:20260419T183348Z
UID:afdc594200964658a8757be2a47808bb@saas_stack_varnish:6080
CONTACT:Donna McConnell\, 801-441-6568
CREATED:20250911T190649Z
DESCRIPTION:Come enjoy a painting class hosted by Donna McConnell and crea
 te your very own fall themed painting! $25 class and supply fee due by Sep
 tember 30th.
LAST-MODIFIED:20250911T190656Z
LOCATION:North Branch Township Library
URL:https://northbranch.ploud.net/news-events/lib-cal/paint-party
END:VEVENT
BEGIN:VTIMEZONE
TZID:US/Eastern
X-LIC-LOCATION:US/Eastern
BEGIN:DAYLIGHT
DTSTART:20250309T030000
TZNAME:EDT
TZOFFSETFROM:-0500
TZOFFSETTO:-0400
END:DAYLIGHT
END:VTIMEZONE
END:VCALENDAR
