BEGIN:VCALENDAR
VERSION:2.0
PRODID:-//Plone.org//NONSGML plone.app.event//EN
X-WR-TIMEZONE:US/Eastern
BEGIN:VEVENT
SUMMARY:Painterly Pottery
DTSTART;TZID=US/Eastern:20160227T110000
DTEND;TZID=US/Eastern:20160227T130000
DTSTAMP:20260420T201636Z
UID:c93d80b7595544419b1ff3aad0fe02ab@saas_stack_varnish:6080
ATTENDEE;CN="ages 14 and above.  Teens and adults.";ROLE=REQ-PARTICIPANT:a
 ges 14 and above.  Teens and adults.
CONTACT:Kelli Lovasz\, 810-688-2282\, northbranchlibrary@northbranchlibrar
 y.net
CREATED:20151112T165514Z
DESCRIPTION:Let your artistic side shine.  Paint your own cup or plate.  A
 ll material will be provided\, as well as the firing of the final project.
   Preregistration is required.  Call the NBTL after January 1 to sign up. 
  This class is for the ages 14 and above.
LAST-MODIFIED:20160125T204740Z
LOCATION:NBTL Meeting Room
URL:https://northbranch.ploud.net/news-events/lib-cal/painterly-pottery
END:VEVENT
BEGIN:VTIMEZONE
TZID:US/Eastern
X-LIC-LOCATION:US/Eastern
BEGIN:STANDARD
DTSTART:20151101T010000
TZNAME:EST
TZOFFSETFROM:-0400
TZOFFSETTO:-0500
END:STANDARD
END:VTIMEZONE
END:VCALENDAR
