BEGIN:VCALENDAR
VERSION:2.0
PRODID:-//Plone.org//NONSGML plone.app.event//EN
X-WR-TIMEZONE:US/Eastern
BEGIN:VEVENT
SUMMARY:Painting Class - Virtual
DTSTART;TZID=US/Eastern:20200622T100000
DTEND;TZID=US/Eastern:20200622T110000
DTSTAMP:20260420T073158Z
UID:51946dbd096d498ba749b83948ef4c85@saas_stack_varnish:6080
ATTENDEE;CN="Beginners of all ages.";ROLE=REQ-PARTICIPANT:Beginners of all
  ages.
CONTACT:Kelli Lovasz\, 810-688-2282\, northbranchlibrary@northbranchlibrar
 y.net
CREATED:20200615T142806Z
DESCRIPTION:We will be doing a virtual painting class via Zoom.  This clas
 s is perfect for beginner painters.  You will need paper and paint at home
 .  Seating is limited\, please call the library to sign up.  You will need
  an e-mail address to access this class.
LAST-MODIFIED:20200615T142817Z
LOCATION:Zoom
URL:https://northbranch.ploud.net/news-events/lib-cal/painting-class-virtu
 al
END:VEVENT
BEGIN:VTIMEZONE
TZID:US/Eastern
X-LIC-LOCATION:US/Eastern
BEGIN:DAYLIGHT
DTSTART:20200308T030000
TZNAME:EDT
TZOFFSETFROM:-0500
TZOFFSETTO:-0400
END:DAYLIGHT
END:VTIMEZONE
END:VCALENDAR
