BEGIN:VCALENDAR
VERSION:2.0
PRODID:-//Plone.org//NONSGML plone.app.event//EN
X-WR-TIMEZONE:US/Eastern
BEGIN:VEVENT
SUMMARY:Painting Class
DTSTART;TZID=US/Eastern:20230621T130000
DTEND;TZID=US/Eastern:20230621T140000
DTSTAMP:20260419T232318Z
UID:8235371be10f4d5893816b69c3a9cbc8@saas_stack_varnish:6080
ATTENDEE;CN="7-12 year olds";ROLE=REQ-PARTICIPANT:7-12 year olds
CONTACT:Kelli Lovasz\, 810-688-2282\, northbranchlibrary@northbranchlibrar
 y.net
CREATED:20230616T191053Z
DESCRIPTION:Partner Painting with the MSU extension.  Must be 7-12 years o
 ld
LAST-MODIFIED:20230616T191057Z
LOCATION:NBTL
URL:https://northbranch.ploud.net/news-events/lib-cal/painting-class
END:VEVENT
BEGIN:VTIMEZONE
TZID:US/Eastern
X-LIC-LOCATION:US/Eastern
BEGIN:DAYLIGHT
DTSTART:20230312T030000
TZNAME:EDT
TZOFFSETFROM:-0500
TZOFFSETTO:-0400
END:DAYLIGHT
END:VTIMEZONE
END:VCALENDAR
