BEGIN:VCALENDAR
VERSION:2.0
PRODID:-//Plone.org//NONSGML plone.app.event//EN
X-WR-TIMEZONE:US/Eastern
BEGIN:VEVENT
SUMMARY:Painting Party
DTSTART;TZID=US/Eastern:20241119T103000
DTEND;TZID=US/Eastern:20241119T123000
DTSTAMP:20260420T013224Z
UID:5cefd2be43c74abfb37a1f2fff6eda0b@saas_stack_varnish:6080
ATTENDEE;CN="tweens, teens and adults";ROLE=REQ-PARTICIPANT:tweens, teens 
 and adults
CONTACT:8106882282\, northbranchlibrary@northbranchlibrary.net
CREATED:20241025T155025Z
DESCRIPTION:Diana Mcconnel will be hosting a painting party at the library
 .  Paint a beautiful winter cardinal.  Cost for this event is $30 per pers
 on and must be paid upon registration.  Please call the library 810-688-22
 82 to register.
LAST-MODIFIED:20241025T155031Z
LOCATION:NBTL Meeting Room
URL:https://northbranch.ploud.net/news-events/lib-cal/painting-party-1
END:VEVENT
BEGIN:VTIMEZONE
TZID:US/Eastern
X-LIC-LOCATION:US/Eastern
BEGIN:STANDARD
DTSTART:20241103T010000
TZNAME:EST
TZOFFSETFROM:-0400
TZOFFSETTO:-0500
END:STANDARD
END:VTIMEZONE
END:VCALENDAR
