BEGIN:VCALENDAR
VERSION:2.0
PRODID:-//Plone.org//NONSGML plone.app.event//EN
X-WR-TIMEZONE:US/Eastern
BEGIN:VEVENT
SUMMARY:Painting Party
DTSTART;TZID=US/Eastern:20240210T103000
DTEND;TZID=US/Eastern:20240210T113000
DTSTAMP:20260419T221036Z
UID:ed819cfdef8f4cb1a377e89cbe39ba1c@saas_stack_varnish:6080
CREATED:20240119T194350Z
DESCRIPTION:Enjoy a fun painting class.  Follow the instructor to make thi
 s Highland Cow painting.
LAST-MODIFIED:20240119T194357Z
URL:https://northbranch.ploud.net/news-events/lib-cal/painting-party
END:VEVENT
BEGIN:VTIMEZONE
TZID:US/Eastern
X-LIC-LOCATION:US/Eastern
BEGIN:STANDARD
DTSTART:20231105T010000
TZNAME:EST
TZOFFSETFROM:-0400
TZOFFSETTO:-0500
END:STANDARD
END:VTIMEZONE
END:VCALENDAR
