BEGIN:VCALENDAR
VERSION:2.0
PRODID:-//Plone.org//NONSGML plone.app.event//EN
X-WR-TIMEZONE:US/Eastern
BEGIN:VEVENT
SUMMARY:Painting Perspectives @ the Library
DTSTART;TZID=US/Eastern:20151024T103000
DTEND;TZID=US/Eastern:20151024T123000
DTSTAMP:20260420T162803Z
UID:dcd9a44715894deea0d1aeca501bd82f@saas_stack_varnish:6080
ATTENDEE;CN="12 and up";ROLE=REQ-PARTICIPANT:12 and up
CONTACT:Kelli Lovasz\, 810-688-2282\, northbranchlibrary@northbranchlibrar
 y.net
CREATED:20150914T153453Z
DESCRIPTION:Murals and More by Sarah will hold a painting class.  Each par
 ticipant will complete their own masterpiece.  Come enjoy an afternoon of 
 painting and fun.  This is a great opportunity to find the hidden artist i
 nside you.  Bring a friend\, leave with a memory.  There is a $30 fee for 
 this program.  $5 reservation fee to be paid at sign up.  Please call the 
 library to register.
LAST-MODIFIED:20150914T153458Z
LOCATION:NBTL Meeting Room
URL:https://northbranch.ploud.net/news-events/lib-cal/painting-perspective
 s-the-library
END:VEVENT
BEGIN:VTIMEZONE
TZID:US/Eastern
X-LIC-LOCATION:US/Eastern
BEGIN:DAYLIGHT
DTSTART:20150308T030000
TZNAME:EDT
TZOFFSETFROM:-0500
TZOFFSETTO:-0400
END:DAYLIGHT
END:VTIMEZONE
END:VCALENDAR
