BEGIN:VCALENDAR
VERSION:2.0
PRODID:-//Plone.org//NONSGML plone.app.event//EN
X-WR-TIMEZONE:US/Eastern
BEGIN:VEVENT
SUMMARY:Pallet Painting Class - Adult
DTSTART;TZID=US/Eastern:20160714T160000
DTEND;TZID=US/Eastern:20160714T180000
DTSTAMP:20260420T221634Z
UID:7d25650de3104ff6b95ead0f75416744@saas_stack_varnish:6080
ATTENDEE;CN="This is an adult program";ROLE=REQ-PARTICIPANT:This is an adu
 lt program
CONTACT:Christi Mortell\, 810-688-2282\, northbranchlibrary@northbranchlib
 rary.net
CREATED:20160621T173810Z
DESCRIPTION:You will have your choice of 1 of our 2 pallet projects.  We w
 ill be making trays or American Flags.  Be prepared to let out your inner 
 artist and construction worker.  We will be using paint\, power tools and 
 hand tools.  You must preregister for this program. 
LAST-MODIFIED:20160621T173829Z
LOCATION:NBTL
URL:https://northbranch.ploud.net/news-events/lib-cal/pallet-painting-clas
 s-adult
END:VEVENT
BEGIN:VTIMEZONE
TZID:US/Eastern
X-LIC-LOCATION:US/Eastern
BEGIN:DAYLIGHT
DTSTART:20160313T030000
TZNAME:EDT
TZOFFSETFROM:-0500
TZOFFSETTO:-0400
END:DAYLIGHT
END:VTIMEZONE
END:VCALENDAR
