BEGIN:VCALENDAR
VERSION:2.0
PRODID:-//Plone.org//NONSGML plone.app.event//EN
X-WR-TIMEZONE:US/Eastern
BEGIN:VEVENT
SUMMARY:Photography Class
DTSTART;TZID=US/Eastern:20250619T160000
DTEND;TZID=US/Eastern:20250619T180000
DTSTAMP:20260419T183818Z
UID:55b572df1d2c47cdb7b0db9229920063@saas_stack_varnish:6080
ATTENDEE;CN="All ages welcome, but tweens must be with an adult guardian."
 ;ROLE=REQ-PARTICIPANT:All ages welcome, but tweens must be with an adult g
 uardian.
CONTACT:810-688-2282\, northbranchlibrary@northbranchlibrary.net
CREATED:20250610T192308Z
DESCRIPTION:Join us to learn tips and tricks to take stunning photos with 
 a smartphone or a camera! Beginners and experienced welcome.
LAST-MODIFIED:20250610T192319Z
LOCATION:North Branch Township Library
URL:https://northbranch.ploud.net/news-events/lib-cal/photography-class
END:VEVENT
BEGIN:VTIMEZONE
TZID:US/Eastern
X-LIC-LOCATION:US/Eastern
BEGIN:DAYLIGHT
DTSTART:20250309T030000
TZNAME:EDT
TZOFFSETFROM:-0500
TZOFFSETTO:-0400
END:DAYLIGHT
END:VTIMEZONE
END:VCALENDAR
