BEGIN:VCALENDAR
VERSION:2.0
PRODID:-//Plone.org//NONSGML plone.app.event//EN
X-WR-TIMEZONE:US/Eastern
BEGIN:VEVENT
SUMMARY:PHOTOGRAPHY CLUB
DTSTART;TZID=US/Eastern:20250924T160000
DTEND;TZID=US/Eastern:20250924T180000
DTSTAMP:20260419T221634Z
UID:00c2e973f6564ec4a342090b0cbeefc3@saas_stack_varnish:6080
ATTENDEE;CN="Everyone welcome! Younger children should be accompanied by a
  guardian.";ROLE=REQ-PARTICIPANT:Everyone welcome! Younger children should
  be accompanied by a guardian.
CONTACT:810-688-2282\, northbranchlibrary@northbranchlibrary.net
CREATED:20250819T161529Z
DESCRIPTION:Join us for tips and tricks on taking the best photos! Phone a
 nd regular cameras allowed!
LAST-MODIFIED:20250819T161536Z
LOCATION:North Branch Township Library
URL:https://northbranch.ploud.net/news-events/lib-cal/photography-club-2
END:VEVENT
BEGIN:VTIMEZONE
TZID:US/Eastern
X-LIC-LOCATION:US/Eastern
BEGIN:DAYLIGHT
DTSTART:20250309T030000
TZNAME:EDT
TZOFFSETFROM:-0500
TZOFFSETTO:-0400
END:DAYLIGHT
END:VTIMEZONE
END:VCALENDAR
