BEGIN:VCALENDAR
VERSION:2.0
PRODID:-//Plone.org//NONSGML plone.app.event//EN
X-WR-TIMEZONE:US/Eastern
BEGIN:VEVENT
SUMMARY:PHOTOGRAPHY CLUB
DTSTART;TZID=US/Eastern:20250716T160000
DTEND;TZID=US/Eastern:20250716T180000
DTSTAMP:20260419T221627Z
UID:cf20ffec36224991952227a7d098fdad@saas_stack_varnish:6080
CONTACT:810-688-2282\, northbranchlibrary@northbranchlibrary.net
CREATED:20250708T204242Z
DESCRIPTION:Come learn photo techniques for both cameras and smart phones.
LAST-MODIFIED:20250708T204248Z
LOCATION:North Branch Township Library
URL:https://northbranch.ploud.net/news-events/lib-cal/photography-club
END:VEVENT
BEGIN:VTIMEZONE
TZID:US/Eastern
X-LIC-LOCATION:US/Eastern
BEGIN:DAYLIGHT
DTSTART:20250309T030000
TZNAME:EDT
TZOFFSETFROM:-0500
TZOFFSETTO:-0400
END:DAYLIGHT
END:VTIMEZONE
END:VCALENDAR
