BEGIN:VCALENDAR
VERSION:2.0
PRODID:-//Plone.org//NONSGML plone.app.event//EN
X-WR-TIMEZONE:US/Eastern
BEGIN:VEVENT
SUMMARY:Pickling Class
DTSTART;TZID=US/Eastern:20230809T173000
DTEND;TZID=US/Eastern:20230809T183000
DTSTAMP:20260419T214420Z
UID:c2e5714086aa4449a9dc1f92ba51bf81@saas_stack_varnish:6080
CREATED:20230616T202932Z
DESCRIPTION:What can you do with the abundance in your garden?  The MSU ex
 tension is offering a pickling class to help you.
LAST-MODIFIED:20230616T202936Z
URL:https://northbranch.ploud.net/news-events/lib-cal/pickling-class
END:VEVENT
BEGIN:VTIMEZONE
TZID:US/Eastern
X-LIC-LOCATION:US/Eastern
BEGIN:DAYLIGHT
DTSTART:20230312T030000
TZNAME:EDT
TZOFFSETFROM:-0500
TZOFFSETTO:-0400
END:DAYLIGHT
END:VTIMEZONE
END:VCALENDAR
