BEGIN:VCALENDAR
VERSION:2.0
PRODID:-//Plone.org//NONSGML plone.app.event//EN
X-WR-TIMEZONE:US/Eastern
BEGIN:VEVENT
SUMMARY:Plant It Tuesday
DTSTART;TZID=US/Eastern:20230330T120000
DTEND;TZID=US/Eastern:20230330T190000
DTSTAMP:20260419T232327Z
UID:cae56ac28bc947e990330546c5c87acc@saas_stack_varnish:6080
CREATED:20230323T183508Z
DESCRIPTION:Come in and get your spring gardening started
LAST-MODIFIED:20230323T183514Z
URL:https://northbranch.ploud.net/news-events/lib-cal/plant-it-tuesday
END:VEVENT
BEGIN:VTIMEZONE
TZID:US/Eastern
X-LIC-LOCATION:US/Eastern
BEGIN:DAYLIGHT
DTSTART:20230312T030000
TZNAME:EDT
TZOFFSETFROM:-0500
TZOFFSETTO:-0400
END:DAYLIGHT
END:VTIMEZONE
END:VCALENDAR
