BEGIN:VCALENDAR
VERSION:2.0
PRODID:-//Plone.org//NONSGML plone.app.event//EN
X-WR-TIMEZONE:US/Eastern
BEGIN:VEVENT
SUMMARY:Pokemon Go at the Library
DTSTART;TZID=US/Eastern:20160818T160000
DTEND;TZID=US/Eastern:20160818T180000
DTSTAMP:20260420T221135Z
UID:4f570a47cda9454791595a8ff3c71473@saas_stack_varnish:6080
ATTENDEE;CN="All ages.  Kids under the age of 10 must be accompanied by an
  adult to walk into North Branch.";ROLE=REQ-PARTICIPANT:All ages.  Kids un
 der the age of 10 must be accompanied by an adult to walk into North Branc
 h.
CONTACT:Kelli Lovasz/Christi Mortell\, 810-688-2282\, northbranchlibrary@n
 orthbranchlibrary.net
CREATED:20160815T155112Z
DESCRIPTION:Play Pokemon Go at the Library!  We are an official Pokestop a
 nd love playing Pokemon.  We will be walking into town to visit other Poke
 stops and a Pokegym to do battle.  We will also be setting off a lure at t
 he library to draw wild Pokemon into our location.  Stop in and play with 
 us.  You never know what kinds of Pokemon will shop up.
LAST-MODIFIED:20160815T155119Z
LOCATION:NBTL and surrounding area
URL:https://northbranch.ploud.net/news-events/lib-cal/pokemon-go-at-the-li
 brary
END:VEVENT
BEGIN:VTIMEZONE
TZID:US/Eastern
X-LIC-LOCATION:US/Eastern
BEGIN:DAYLIGHT
DTSTART:20160313T030000
TZNAME:EDT
TZOFFSETFROM:-0500
TZOFFSETTO:-0400
END:DAYLIGHT
END:VTIMEZONE
END:VCALENDAR
