BEGIN:VCALENDAR
VERSION:2.0
PRODID:-//Plone.org//NONSGML plone.app.event//EN
X-WR-TIMEZONE:US/Eastern
BEGIN:VEVENT
SUMMARY:Popsicle Bookmarks
DTSTART;TZID=US/Eastern:20160406T110000
DTEND;TZID=US/Eastern:20160406T150000
DTSTAMP:20260420T184512Z
UID:9af32d3b84ba4a9eab356c3e5b40bd86@saas_stack_varnish:6080
CONTACT:Robyn Vincent\, 810-688-2282
CREATED:20160404T154204Z
DESCRIPTION:Spring Break Make & Take.  Stop in and make a craft to take ho
 me.
LAST-MODIFIED:20160404T154509Z
URL:https://northbranch.ploud.net/news-events/lib-cal/popsicle-bookmarks
END:VEVENT
BEGIN:VTIMEZONE
TZID:US/Eastern
X-LIC-LOCATION:US/Eastern
BEGIN:DAYLIGHT
DTSTART:20160313T030000
TZNAME:EDT
TZOFFSETFROM:-0500
TZOFFSETTO:-0400
END:DAYLIGHT
END:VTIMEZONE
END:VCALENDAR
