BEGIN:VCALENDAR
VERSION:2.0
PRODID:-//Plone.org//NONSGML plone.app.event//EN
X-WR-TIMEZONE:US/Eastern
BEGIN:VEVENT
SUMMARY:Pumpkin Decorating at the library
DTSTART;TZID=US/Eastern:20241026T103000
DTEND;TZID=US/Eastern:20241026T140000
DTSTAMP:20260420T013056Z
UID:817cf7a575114661b815e7a74c6d0a89@saas_stack_varnish:6080
CREATED:20241025T154427Z
DESCRIPTION:We have pumpkins!  Stop in and decorate one.  We provide all t
 he supplies and clean up the mess.  You just bring the fun.
LAST-MODIFIED:20241025T154433Z
URL:https://northbranch.ploud.net/news-events/lib-cal/pumpkin-decorating-a
 t-the-library
END:VEVENT
BEGIN:VTIMEZONE
TZID:US/Eastern
X-LIC-LOCATION:US/Eastern
BEGIN:DAYLIGHT
DTSTART:20240310T030000
TZNAME:EDT
TZOFFSETFROM:-0500
TZOFFSETTO:-0400
END:DAYLIGHT
END:VTIMEZONE
END:VCALENDAR
