BEGIN:VCALENDAR
VERSION:2.0
PRODID:-//Plone.org//NONSGML plone.app.event//EN
X-WR-TIMEZONE:US/Eastern
BEGIN:VEVENT
SUMMARY:Put your Garden to Bed
DTSTART;TZID=US/Eastern:20150924T173000
DTEND;TZID=US/Eastern:20150924T190000
DTSTAMP:20260420T162710Z
UID:27ceffbb8dda459d94835e3254259c08@saas_stack_varnish:6080
CONTACT:Annette Adams\, 810-688-2282\, northbranchlibrary@northbranchlibra
 ry.net
CREATED:20150914T152225Z
DESCRIPTION:Fall/Winter is coming and it's time to begin to shut down your
  garden for the season.  Meet with Master Gardner Annette Adams to learn t
 ips/techniques to not only clean up your garden\, but have it ready for th
 e spring.
LAST-MODIFIED:20150914T152230Z
LOCATION:NBTL Meeting Room
URL:https://northbranch.ploud.net/news-events/lib-cal/put-your-garden-to-b
 ed
END:VEVENT
BEGIN:VTIMEZONE
TZID:US/Eastern
X-LIC-LOCATION:US/Eastern
BEGIN:DAYLIGHT
DTSTART:20150308T030000
TZNAME:EDT
TZOFFSETFROM:-0500
TZOFFSETTO:-0400
END:DAYLIGHT
END:VTIMEZONE
END:VCALENDAR
