BEGIN:VCALENDAR
VERSION:2.0
PRODID:-//Plone.org//NONSGML plone.app.event//EN
X-WR-TIMEZONE:US/Eastern
BEGIN:VEVENT
SUMMARY:PUZZLE SHOWDOWN
DTSTART;VALUE=DATE:20251122
DTEND;VALUE=DATE:20251123
DTSTAMP:20260419T221244Z
UID:fea78070ac72413e89b1ec7fbe20f722@saas_stack_varnish:6080
ATTENDEE;CN="All ages in teams of 2.";ROLE=REQ-PARTICIPANT:All ages in tea
 ms of 2.
CONTACT:810-688-2282\, northbranchlibrary@northbranchlibrary.net
CREATED:20251023T173027Z
DESCRIPTION:Who can piece it together the fastest? Join us in teams of 2 t
 o see who can complete a puzzle first! Mini puzzle related contests and pr
 izes will take place throughout the event.
LAST-MODIFIED:20251023T173034Z
LOCATION:North Branch Township Library
URL:https://northbranch.ploud.net/news-events/lib-cal/puzzle-showdown
END:VEVENT
END:VCALENDAR
