BEGIN:VCALENDAR
VERSION:2.0
PRODID:-//Plone.org//NONSGML plone.app.event//EN
X-WR-TIMEZONE:US/Eastern
BEGIN:VEVENT
SUMMARY:Recycle Craft
DTSTART;TZID=US/Eastern:20230718T110000
DTEND;TZID=US/Eastern:20230718T120000
DTSTAMP:20260419T214549Z
UID:a19ff85528bc40ab9f2a2009f78582ad@saas_stack_varnish:6080
CREATED:20230616T202025Z
DESCRIPTION:Make a recycled craft with the MSU extension
LAST-MODIFIED:20230616T202030Z
URL:https://northbranch.ploud.net/news-events/lib-cal/recycle-craft
END:VEVENT
BEGIN:VTIMEZONE
TZID:US/Eastern
X-LIC-LOCATION:US/Eastern
BEGIN:DAYLIGHT
DTSTART:20230312T030000
TZNAME:EDT
TZOFFSETFROM:-0500
TZOFFSETTO:-0400
END:DAYLIGHT
END:VTIMEZONE
END:VCALENDAR
