BEGIN:VCALENDAR
VERSION:2.0
PRODID:-//Plone.org//NONSGML plone.app.event//EN
X-WR-TIMEZONE:US/Eastern
BEGIN:VEVENT
SUMMARY:Retirement: Making Your Money Last
DTSTART;TZID=US/Eastern:20160507T110000
DTEND;TZID=US/Eastern:20160507T123000
DTSTAMP:20260420T223515Z
UID:095c5e069d10490dadd49aa2bc1dfd34@saas_stack_varnish:6080
CONTACT:Kelli Lovasz\, 810-688-2282\, northbranchlibrary@northbranchlibrar
 y.net
CREATED:20160404T183422Z
DESCRIPTION:How do you picture your retirement?  Consultants from Edward J
 ones will be presenting a program focusing on your needs for today and the
  future.  Please call the library 810-688-2282 to register.
LAST-MODIFIED:20160404T183429Z
LOCATION:NBTL Meeting Room
URL:https://northbranch.ploud.net/news-events/lib-cal/retirement-making-yo
 ur-money-last
END:VEVENT
BEGIN:VTIMEZONE
TZID:US/Eastern
X-LIC-LOCATION:US/Eastern
BEGIN:DAYLIGHT
DTSTART:20160313T030000
TZNAME:EDT
TZOFFSETFROM:-0500
TZOFFSETTO:-0400
END:DAYLIGHT
END:VTIMEZONE
END:VCALENDAR
