BEGIN:VCALENDAR
VERSION:2.0
PRODID:-//Plone.org//NONSGML plone.app.event//EN
X-WR-TIMEZONE:US/Eastern
BEGIN:VEVENT
SUMMARY:Salsa - canning
DTSTART;TZID=US/Eastern:20220831T170000
DTEND;TZID=US/Eastern:20220831T180000
DTSTAMP:20260420T063429Z
UID:558f79a73a98427e8433aa50debc09de@saas_stack_varnish:6080
CONTACT:Kelli Lovasz\, 8106882282\, northbranchlibary@northbranchlibrary.n
 et
CREATED:20220808T195410Z
DESCRIPTION:Learn the basics and safety of canning salsa with Chris Venema
  from the MSU extension
LAST-MODIFIED:20220808T195416Z
LOCATION:NBTL Meeting Room
URL:https://northbranch.ploud.net/news-events/lib-cal/salsa-canning
END:VEVENT
BEGIN:VTIMEZONE
TZID:US/Eastern
X-LIC-LOCATION:US/Eastern
BEGIN:DAYLIGHT
DTSTART:20220313T030000
TZNAME:EDT
TZOFFSETFROM:-0500
TZOFFSETTO:-0400
END:DAYLIGHT
END:VTIMEZONE
END:VCALENDAR
