BEGIN:VCALENDAR
VERSION:2.0
PRODID:-//Plone.org//NONSGML plone.app.event//EN
X-WR-TIMEZONE:US/Eastern
BEGIN:VEVENT
SUMMARY:Saturday Make & Take
DTSTART;TZID=US/Eastern:20211113T100000
DTEND;TZID=US/Eastern:20211113T140000
DTSTAMP:20260420T054757Z
UID:aabbe9b3e2de4edb96d469d9e0241593@saas_stack_varnish:6080
CONTACT:8106882282\, northbranchlibary@northbranchlibrary.net
CREATED:20211028T183504Z
DESCRIPTION:Make a fun Thanksgiving holiday decoration.
LAST-MODIFIED:20211028T183517Z
LOCATION:NBTL
URL:https://northbranch.ploud.net/news-events/lib-cal/saturday-make-take
END:VEVENT
BEGIN:VTIMEZONE
TZID:US/Eastern
X-LIC-LOCATION:US/Eastern
BEGIN:STANDARD
DTSTART:20211107T010000
TZNAME:EST
TZOFFSETFROM:-0400
TZOFFSETTO:-0500
END:STANDARD
END:VTIMEZONE
END:VCALENDAR
