BEGIN:VCALENDAR
VERSION:2.0
PRODID:-//Plone.org//NONSGML plone.app.event//EN
X-WR-TIMEZONE:US/Eastern
BEGIN:VEVENT
SUMMARY:Scarf Night
DTSTART;TZID=US/Eastern:20160526T170000
DTEND;TZID=US/Eastern:20160526T183000
DTSTAMP:20260420T225555Z
UID:3ec439737d034a288ad5a2d5c35833d9@saas_stack_varnish:6080
CONTACT:Christi Mortell\, 810-688-2282\, northbranchlibrary@northbranchlib
 rary.net
CREATED:20160413T174507Z
DESCRIPTION:Learn how to make fun and beautiful scarf necklaces using T-sh
 irts\, scarves\, beads and old jewelry.  Contact the library 810-688-2282 
 to sign up and learn about materials.
LAST-MODIFIED:20160413T174511Z
LOCATION:NBTL Meeting Room
URL:https://northbranch.ploud.net/news-events/lib-cal/scarf-night
END:VEVENT
BEGIN:VTIMEZONE
TZID:US/Eastern
X-LIC-LOCATION:US/Eastern
BEGIN:DAYLIGHT
DTSTART:20160313T030000
TZNAME:EDT
TZOFFSETFROM:-0500
TZOFFSETTO:-0400
END:DAYLIGHT
END:VTIMEZONE
END:VCALENDAR
