BEGIN:VCALENDAR
VERSION:2.0
PRODID:-//Plone.org//NONSGML plone.app.event//EN
X-WR-TIMEZONE:US/Eastern
BEGIN:VEVENT
SUMMARY:Scheer Genius
DTSTART;TZID=US/Eastern:20190627T110000
DTEND;TZID=US/Eastern:20190627T120000
DTSTAMP:20260420T105858Z
UID:a1e066db02544538b20bba2abe7f6a71@saas_stack_varnish:6080
ATTENDEE;CN="All ages";ROLE=REQ-PARTICIPANT:All ages
CONTACT:Kelli Lovasz\, 8106882282\, northbranchlibrary@northbranchlibrary.
 net
CREATED:20190605T160244Z
DESCRIPTION:Doug Scheer brings his wacky show of comedy\, magic and scienc
 e to the library.  Open to all ages.
LAST-MODIFIED:20190605T160250Z
LOCATION:NBTL Meeting Room
URL:https://northbranch.ploud.net/news-events/lib-cal/scheer-genius
END:VEVENT
BEGIN:VTIMEZONE
TZID:US/Eastern
X-LIC-LOCATION:US/Eastern
BEGIN:DAYLIGHT
DTSTART:20190310T030000
TZNAME:EDT
TZOFFSETFROM:-0500
TZOFFSETTO:-0400
END:DAYLIGHT
END:VTIMEZONE
END:VCALENDAR
