BEGIN:VCALENDAR
VERSION:2.0
PRODID:-//Plone.org//NONSGML plone.app.event//EN
X-WR-TIMEZONE:US/Eastern
BEGIN:VEVENT
SUMMARY:School Supplies Donation Drop-off
DTSTART;TZID=US/Eastern:20250726T100000
DTEND;TZID=US/Eastern:20250726T140000
DTSTAMP:20260419T221659Z
UID:fec45f0ef94e44ca9680727ec72ede17@saas_stack_varnish:6080
CONTACT:810-688-2282\, northbranchlibrary@northbranchlibrary.net
CREATED:20250724T174716Z
DESCRIPTION:The North Branch Township Library is a drop-off location for s
 chool supplies donations for the North Branch Thrift Shop. Bring items to 
 the front desk of the library by August 2nd!
LAST-MODIFIED:20250724T174723Z
LOCATION:North Branch Township Library
URL:https://northbranch.ploud.net/news-events/lib-cal/school-supplies-dona
 tion-drop-off-2
END:VEVENT
BEGIN:VTIMEZONE
TZID:US/Eastern
X-LIC-LOCATION:US/Eastern
BEGIN:DAYLIGHT
DTSTART:20250309T030000
TZNAME:EDT
TZOFFSETFROM:-0500
TZOFFSETTO:-0400
END:DAYLIGHT
END:VTIMEZONE
END:VCALENDAR
