BEGIN:VCALENDAR
VERSION:2.0
PRODID:-//Plone.org//NONSGML plone.app.event//EN
X-WR-TIMEZONE:US/Eastern
BEGIN:VEVENT
SUMMARY:Science Day
DTSTART;TZID=US/Eastern:20230728T110000
DTEND;TZID=US/Eastern:20230728T160000
DTSTAMP:20260419T214442Z
UID:765d98dd7fa64b32b350719fe52a7cde@saas_stack_varnish:6080
CREATED:20230616T202409Z
DESCRIPTION:Hands on science activities for kids
LAST-MODIFIED:20230616T202413Z
URL:https://northbranch.ploud.net/news-events/lib-cal/science-day-1
END:VEVENT
BEGIN:VTIMEZONE
TZID:US/Eastern
X-LIC-LOCATION:US/Eastern
BEGIN:DAYLIGHT
DTSTART:20230312T030000
TZNAME:EDT
TZOFFSETFROM:-0500
TZOFFSETTO:-0400
END:DAYLIGHT
END:VTIMEZONE
END:VCALENDAR
