BEGIN:VCALENDAR
VERSION:2.0
PRODID:-//Plone.org//NONSGML plone.app.event//EN
X-WR-TIMEZONE:US/Eastern
BEGIN:VEVENT
SUMMARY:Science Day
DTSTART;TZID=US/Eastern:20230616T113000
DTEND;TZID=US/Eastern:20260419T200000
DTSTAMP:20260419T232158Z
UID:da172fad4da446fb894e9a541d924c03@saas_stack_varnish:6080
CREATED:20230616T190914Z
DESCRIPTION:Soar into the library for fun activities with paper airplanes 
 and rockets
LAST-MODIFIED:20230616T190919Z
URL:https://northbranch.ploud.net/news-events/lib-cal/science-day
END:VEVENT
BEGIN:VTIMEZONE
TZID:US/Eastern
X-LIC-LOCATION:US/Eastern
BEGIN:DAYLIGHT
DTSTART:20230312T030000
TZNAME:EDT
TZOFFSETFROM:-0500
TZOFFSETTO:-0400
END:DAYLIGHT
BEGIN:DAYLIGHT
DTSTART:20260308T030000
TZNAME:EDT
TZOFFSETFROM:-0500
TZOFFSETTO:-0400
END:DAYLIGHT
END:VTIMEZONE
END:VCALENDAR
