BEGIN:VCALENDAR
VERSION:2.0
PRODID:-//Plone.org//NONSGML plone.app.event//EN
X-WR-TIMEZONE:US/Eastern
BEGIN:VEVENT
SUMMARY:Scrapbooking Time
DTSTART;TZID=US/Eastern:20221021T120000
DTEND;TZID=US/Eastern:20221021T150000
DTSTAMP:20260420T010617Z
UID:0a15c6c52fb54d23a1d1e5f167be2440@saas_stack_varnish:6080
ATTENDEE;CN="Anyone interested in Scrapbooking";ROLE=REQ-PARTICIPANT:Anyon
 e interested in Scrapbooking
CONTACT:Debbi Miller/Denise Fink\, 810-688-2282\, northbranchlibary@northb
 ranchlibrary.net
CREATED:20220930T161847Z
DESCRIPTION:Are you new to scrapbooking? Are you a seasoned scrapbooker? D
 o you need to catch up on pages or just need a space to spread your scrapb
 ook stuff out?  This time is for you.  Join others as we work on our scrap
 books or begin new ones.  We will have a monthly themed scrapbook kit for 
 all attendees.  Registration is not mandatory\, but is helpful for the pur
 poses of supplies.
LAST-MODIFIED:20220930T161852Z
LOCATION:NBTL Meeting Room
URL:https://northbranch.ploud.net/news-events/lib-cal/scrapbooking-time
END:VEVENT
BEGIN:VTIMEZONE
TZID:US/Eastern
X-LIC-LOCATION:US/Eastern
BEGIN:DAYLIGHT
DTSTART:20220313T030000
TZNAME:EDT
TZOFFSETFROM:-0500
TZOFFSETTO:-0400
END:DAYLIGHT
END:VTIMEZONE
END:VCALENDAR
