BEGIN:VCALENDAR
VERSION:2.0
PRODID:-//Plone.org//NONSGML plone.app.event//EN
X-WR-TIMEZONE:US/Eastern
BEGIN:VEVENT
SUMMARY:Sea Glass Art Class
DTSTART;TZID=US/Eastern:20250724T160000
DTEND;TZID=US/Eastern:20250724T180000
DTSTAMP:20260419T221535Z
UID:be75a39e9c6f4927a9cdfc6b375b812a@saas_stack_varnish:6080
CONTACT:810-688-2282\, northbranchlibrary@northbranchlibrary.net
CREATED:20250619T174028Z
DESCRIPTION:Sign up to make a beautiful picture out of sea glass for your 
 home!
LAST-MODIFIED:20250619T174035Z
LOCATION:North Branch Township Library
URL:https://northbranch.ploud.net/news-events/lib-cal/sea-glass-art-class
END:VEVENT
BEGIN:VTIMEZONE
TZID:US/Eastern
X-LIC-LOCATION:US/Eastern
BEGIN:DAYLIGHT
DTSTART:20250309T030000
TZNAME:EDT
TZOFFSETFROM:-0500
TZOFFSETTO:-0400
END:DAYLIGHT
END:VTIMEZONE
END:VCALENDAR
