BEGIN:VCALENDAR
VERSION:2.0
PRODID:-//Plone.org//NONSGML plone.app.event//EN
X-WR-TIMEZONE:US/Eastern
BEGIN:VEVENT
SUMMARY:Sea Glass Framed Art Class
DTSTART;TZID=US/Eastern:20250612T160000
DTEND;TZID=US/Eastern:20250612T180000
DTSTAMP:20260419T184212Z
UID:a32a29be50734c8b9dc379b697b54eb7@saas_stack_varnish:6080
ATTENDEE;CN="For tweens- Ages 10 and up";ROLE=REQ-PARTICIPANT:For tweens- 
 Ages 10 and up
CONTACT:810-688-2282\, northbranchlibrary@northbranchlibrary.net
CREATED:20250515T155720Z
DESCRIPTION:Make a framed piece of art out of sea glass! Call and sign up 
 at 810-688-2282!
LAST-MODIFIED:20250515T155728Z
LOCATION:North Branch Township Library
URL:https://northbranch.ploud.net/news-events/lib-cal/sea-glass-framed-art
 -class
END:VEVENT
BEGIN:VTIMEZONE
TZID:US/Eastern
X-LIC-LOCATION:US/Eastern
BEGIN:DAYLIGHT
DTSTART:20250309T030000
TZNAME:EDT
TZOFFSETFROM:-0500
TZOFFSETTO:-0400
END:DAYLIGHT
END:VTIMEZONE
END:VCALENDAR
