BEGIN:VCALENDAR
VERSION:2.0
PRODID:-//Plone.org//NONSGML plone.app.event//EN
X-WR-TIMEZONE:US/Eastern
BEGIN:VEVENT
SUMMARY:Seahorses Galore
DTSTART;VALUE=DATE:20210712
DTEND;VALUE=DATE:20210713
DTSTAMP:20260420T054925Z
UID:0580d875142b485aa28017b2cf4390e6@saas_stack_varnish:6080
CREATED:20210616T163337Z
DESCRIPTION:Week of 7/12-7/17.  A seahorse themed Summer Reading kit can b
 e picked up at the library.
LAST-MODIFIED:20210616T163341Z
URL:https://northbranch.ploud.net/news-events/lib-cal/seahorses-galore
END:VEVENT
END:VCALENDAR
