BEGIN:VCALENDAR
VERSION:2.0
PRODID:-//Plone.org//NONSGML plone.app.event//EN
X-WR-TIMEZONE:US/Eastern
BEGIN:VEVENT
SUMMARY:Seed Saving 101
DTSTART;TZID=US/Eastern:20220518T173000
DTEND;TZID=US/Eastern:20220518T190000
DTSTAMP:20260420T064623Z
UID:d3aaa95389624e4998a878d27ded70de@saas_stack_varnish:6080
CONTACT:Kelli Lovasz\, 810-688-2282\, northbranchlibary@northbranchlibrary
 .net
CREATED:20220412T172110Z
DESCRIPTION:Bevin Cohen from Small House Farm will be sharing his expertis
 e on seed saving\, heirloom seeds and gardening.  Call the NBTL to sign up
 .  810-688-2282
LAST-MODIFIED:20220412T172115Z
LOCATION:NBTL Meeting Room
URL:https://northbranch.ploud.net/news-events/lib-cal/seed-saving-101
END:VEVENT
BEGIN:VTIMEZONE
TZID:US/Eastern
X-LIC-LOCATION:US/Eastern
BEGIN:DAYLIGHT
DTSTART:20220313T030000
TZNAME:EDT
TZOFFSETFROM:-0500
TZOFFSETTO:-0400
END:DAYLIGHT
END:VTIMEZONE
END:VCALENDAR
