BEGIN:VCALENDAR
VERSION:2.0
PRODID:-//Plone.org//NONSGML plone.app.event//EN
X-WR-TIMEZONE:US/Eastern
BEGIN:VEVENT
SUMMARY:Seed Starting for Kids
DTSTART;TZID=US/Eastern:20160416T110000
DTEND;TZID=US/Eastern:20160416T120000
DTSTAMP:20260420T195427Z
UID:736906c6e7b4416eb851bd17202b8ce3@saas_stack_varnish:6080
ATTENDEE;CN="Kids and teens";ROLE=REQ-PARTICIPANT:Kids and teens
CONTACT:Annette Adams\, 810-688-2282\, northbranchlibrary@northbranchlibra
 ry.net
CREATED:20160324T174628Z
DESCRIPTION:Spring is coming.  It's time to think about gardening and this
  is a great way to get your kids interested.  They'll learn a variety of f
 un techniques to get seeds started and take them home to watch them grow. 
  Please call the Circulation Desk for preregistration details.
LAST-MODIFIED:20160324T174632Z
LOCATION:NBTL
URL:https://northbranch.ploud.net/news-events/lib-cal/seed-starting-for-ki
 ds
END:VEVENT
BEGIN:VTIMEZONE
TZID:US/Eastern
X-LIC-LOCATION:US/Eastern
BEGIN:DAYLIGHT
DTSTART:20160313T030000
TZNAME:EDT
TZOFFSETFROM:-0500
TZOFFSETTO:-0400
END:DAYLIGHT
END:VTIMEZONE
END:VCALENDAR
